BEGIN:VCALENDAR
VERSION:2.0
PRODID:-//Mind Garden Learning - ECPv6.15.17.1//NONSGML v1.0//EN
CALSCALE:GREGORIAN
METHOD:PUBLISH
X-ORIGINAL-URL:https://mindgardenlearning.com
X-WR-CALDESC:Events for Mind Garden Learning
REFRESH-INTERVAL;VALUE=DURATION:PT1H
X-Robots-Tag:noindex
X-PUBLISHED-TTL:PT1H
BEGIN:VTIMEZONE
TZID:America/New_York
BEGIN:DAYLIGHT
TZOFFSETFROM:-0500
TZOFFSETTO:-0400
TZNAME:EDT
DTSTART:20240310T070000
END:DAYLIGHT
BEGIN:STANDARD
TZOFFSETFROM:-0400
TZOFFSETTO:-0500
TZNAME:EST
DTSTART:20241103T060000
END:STANDARD
BEGIN:DAYLIGHT
TZOFFSETFROM:-0500
TZOFFSETTO:-0400
TZNAME:EDT
DTSTART:20250309T070000
END:DAYLIGHT
BEGIN:STANDARD
TZOFFSETFROM:-0400
TZOFFSETTO:-0500
TZNAME:EST
DTSTART:20251102T060000
END:STANDARD
BEGIN:DAYLIGHT
TZOFFSETFROM:-0500
TZOFFSETTO:-0400
TZNAME:EDT
DTSTART:20260308T070000
END:DAYLIGHT
BEGIN:STANDARD
TZOFFSETFROM:-0400
TZOFFSETTO:-0500
TZNAME:EST
DTSTART:20261101T060000
END:STANDARD
END:VTIMEZONE
BEGIN:VEVENT
DTSTART;TZID=America/New_York:20250803T140000
DTEND;TZID=America/New_York:20250803T160000
DTSTAMP:20260420T152020
CREATED:20250801T221018Z
LAST-MODIFIED:20250801T221018Z
UID:10000003-1754229600-1754236800@mindgardenlearning.com
SUMMARY:Open House 2025-2026 2-4pm
DESCRIPTION:Come for MindGarden Learning’s open house!\nWe’re now enrolling for limited spots in our: Monday / Wednesday (9AM – 2PM) group \n🚨 Attending our open house will qualify you for free registration! (That’s a $50 value) 🚨\n\n1. 👋 Welcome & Free Play (15-20 min)\n2. 🌼 Group Circle: Welcome + Sample Lesson (15–20 min)\n3. 🎨 Exploration Stations (45-60 minutes)\n📍 Station 1: Nature Drawing Station\n📍 Station 2: History Station – Davy Crockett & the Panther\n📍 Station 3: Geography Station – The Long\, Dark Winter\n📍 Station 4: Poetry Station – I Am the Wind\n📍 Station 5: Handicrafts Station – Learning with Our Hands
URL:https://mindgardenlearning.com/event/open-house-2025-2026-2-4pm-2/
LOCATION:Jungle Fun Center\, 6503 Hixson Pike\, Hixson\, TN\, 37343\, United States
CATEGORIES:Open House
ATTACH;FMTTYPE=image/jpeg:https://mindgardenlearning.com/wp-content/uploads/2025/07/MGL-2025-open-house.jpg
END:VEVENT
BEGIN:VEVENT
DTSTART;TZID=America/New_York:20250730T170000
DTEND;TZID=America/New_York:20250730T190000
DTSTAMP:20260420T152020
CREATED:20250724T171630Z
LAST-MODIFIED:20250724T192631Z
UID:10000002-1753894800-1753902000@mindgardenlearning.com
SUMMARY:Open House 2025-2026 5-7pm
DESCRIPTION:Come for MindGarden Learning’s open house!\nWe’re now enrolling for limited spots in our: Monday / Wednesday (9AM – 2PM) group \n🚨 Attending our open house will qualify you for free registration! (That’s a $50 value) 🚨\n\n1. 👋 Welcome & Free Play (15-20 min)\n2. 🌼 Group Circle: Welcome + Sample Lesson (15–20 min)\n3. 🎨 Exploration Stations (45-60 minutes)\n📍 Station 1: Nature Drawing Station\n📍 Station 2: History Station – Davy Crockett & the Panther\n📍 Station 3: Geography Station – The Long\, Dark Winter\n📍 Station 4: Poetry Station – I Am the Wind\n📍 Station 5: Handicrafts Station – Learning with Our Hands
URL:https://mindgardenlearning.com/event/open-house-2025-2026-5-7pm/
LOCATION:Jungle Fun Center\, 6503 Hixson Pike\, Hixson\, TN\, 37343\, United States
CATEGORIES:Open House
ATTACH;FMTTYPE=image/jpeg:https://mindgardenlearning.com/wp-content/uploads/2025/07/MGL-2025-open-house.jpg
END:VEVENT
BEGIN:VEVENT
DTSTART;TZID=America/New_York:20250730T140000
DTEND;TZID=America/New_York:20250730T160000
DTSTAMP:20260420T152020
CREATED:20250724T171614Z
LAST-MODIFIED:20250724T192554Z
UID:10000001-1753884000-1753891200@mindgardenlearning.com
SUMMARY:Open House 2025-2026 2-4pm
DESCRIPTION:Come for MindGarden Learning’s open house!\nWe’re now enrolling for limited spots in our: Monday / Wednesday (9AM – 2PM) group \n🚨 Attending our open house will qualify you for free registration! (That’s a $50 value) 🚨\n\n1. 👋 Welcome & Free Play (15-20 min)\n2. 🌼 Group Circle: Welcome + Sample Lesson (15–20 min)\n3. 🎨 Exploration Stations (45-60 minutes)\n📍 Station 1: Nature Drawing Station\n📍 Station 2: History Station – Davy Crockett & the Panther\n📍 Station 3: Geography Station – The Long\, Dark Winter\n📍 Station 4: Poetry Station – I Am the Wind\n📍 Station 5: Handicrafts Station – Learning with Our Hands
URL:https://mindgardenlearning.com/event/open-house-2025-2026-2-4pm/
LOCATION:Jungle Fun Center\, 6503 Hixson Pike\, Hixson\, TN\, 37343\, United States
CATEGORIES:Open House
ATTACH;FMTTYPE=image/jpeg:https://mindgardenlearning.com/wp-content/uploads/2025/07/MGL-2025-open-house.jpg
END:VEVENT
END:VCALENDAR